BEGIN:VCALENDAR
VERSION:2.0
PRODID:-//GGS Aldenhoven - ECPv6.2.3.2//NONSGML v1.0//EN
CALSCALE:GREGORIAN
METHOD:PUBLISH
X-ORIGINAL-URL:https://ggsaldenhoven.de
X-WR-CALDESC:Veranstaltungen für GGS Aldenhoven
REFRESH-INTERVAL;VALUE=DURATION:PT1H
X-Robots-Tag:noindex
X-PUBLISHED-TTL:PT1H
BEGIN:VTIMEZONE
TZID:Europe/Helsinki
BEGIN:DAYLIGHT
TZOFFSETFROM:+0200
TZOFFSETTO:+0300
TZNAME:EEST
DTSTART:20250330T010000
END:DAYLIGHT
BEGIN:STANDARD
TZOFFSETFROM:+0300
TZOFFSETTO:+0200
TZNAME:EET
DTSTART:20251026T010000
END:STANDARD
BEGIN:DAYLIGHT
TZOFFSETFROM:+0200
TZOFFSETTO:+0300
TZNAME:EEST
DTSTART:20260329T010000
END:DAYLIGHT
BEGIN:STANDARD
TZOFFSETFROM:+0300
TZOFFSETTO:+0200
TZNAME:EET
DTSTART:20261025T010000
END:STANDARD
END:VTIMEZONE
BEGIN:VEVENT
DTSTART;VALUE=DATE:20260330
DTEND;VALUE=DATE:20260411
DTSTAMP:20260423T210115
CREATED:20250813T071252Z
LAST-MODIFIED:20250819T114415Z
UID:15275-1774828800-1775865599@ggsaldenhoven.de
SUMMARY:Osterferien
DESCRIPTION:
URL:https://ggsaldenhoven.de/termin/osterferien/
CATEGORIES:Ferien
END:VEVENT
BEGIN:VEVENT
DTSTART;VALUE=DATE:20260213
DTEND;VALUE=DATE:20260218
DTSTAMP:20260423T210115
CREATED:20240804T152353Z
LAST-MODIFIED:20260213T184506Z
UID:14410-1770940800-1771372799@ggsaldenhoven.de
SUMMARY:Unterrichtsfreie Tage an Karneval 2026
DESCRIPTION:
URL:https://ggsaldenhoven.de/termin/unterrichtsfreie-tage-an-karneval-2025/
CATEGORIES:Unterrichtsfreier Tag
END:VEVENT
BEGIN:VEVENT
DTSTART;VALUE=DATE:20260206
DTEND;VALUE=DATE:20260207
DTSTAMP:20260423T210115
CREATED:20250819T113252Z
LAST-MODIFIED:20250819T113252Z
UID:15329-1770336000-1770422399@ggsaldenhoven.de
SUMMARY:Zeugnisausgabe der Stufen 3 und 4
DESCRIPTION:
URL:https://ggsaldenhoven.de/termin/zeugnisausgabe-der-stufen-3-und-4/
END:VEVENT
BEGIN:VEVENT
DTSTART;VALUE=DATE:20251222
DTEND;VALUE=DATE:20260107
DTSTAMP:20260423T210115
CREATED:20250813T071101Z
LAST-MODIFIED:20250813T071101Z
UID:15272-1766361600-1767743999@ggsaldenhoven.de
SUMMARY:Weihnachtsferien
DESCRIPTION:
URL:https://ggsaldenhoven.de/termin/weihnachtsferien/
CATEGORIES:Ferien
END:VEVENT
BEGIN:VEVENT
DTSTART;VALUE=DATE:20251125
DTEND;VALUE=DATE:20251126
DTSTAMP:20260423T210115
CREATED:20251121T200417Z
LAST-MODIFIED:20251121T200417Z
UID:15580-1764028800-1764115199@ggsaldenhoven.de
SUMMARY:Elternsprechtag Stufe 1-3\, Beratungsgespräche Stufe 4
DESCRIPTION:Zeiten individuell nach Bekanntgabe der Klassenlehrer/innen.
URL:https://ggsaldenhoven.de/termin/elternsprechtag-stufe-1-3-beratungsgespraeche-stufe-4/
CATEGORIES:Elternsprechtag
END:VEVENT
BEGIN:VEVENT
DTSTART;VALUE=DATE:20251124
DTEND;VALUE=DATE:20251125
DTSTAMP:20260423T210115
CREATED:20250819T112816Z
LAST-MODIFIED:20250819T112816Z
UID:15322-1763942400-1764028799@ggsaldenhoven.de
SUMMARY:Vorlesetag 2025
DESCRIPTION:
URL:https://ggsaldenhoven.de/termin/vorlesetag-2025/
END:VEVENT
BEGIN:VEVENT
DTSTART;VALUE=DATE:20251108
DTEND;VALUE=DATE:20251110
DTSTAMP:20260423T210115
CREATED:20250819T112554Z
LAST-MODIFIED:20250819T112554Z
UID:15315-1762560000-1762732799@ggsaldenhoven.de
SUMMARY:Martinuswochenende
DESCRIPTION:
URL:https://ggsaldenhoven.de/termin/martinuswochenende-3/
CATEGORIES:Feier,Gottesdienst
END:VEVENT
BEGIN:VEVENT
DTSTART;VALUE=DATE:20251027
DTEND;VALUE=DATE:20251108
DTSTAMP:20260423T210115
CREATED:20250819T114101Z
LAST-MODIFIED:20250819T114101Z
UID:15344-1761523200-1762559999@ggsaldenhoven.de
SUMMARY:Anmeldung Schulneulinge
DESCRIPTION:
URL:https://ggsaldenhoven.de/termin/anmeldung-schulneulinge-3/
END:VEVENT
BEGIN:VEVENT
DTSTART;VALUE=DATE:20251013
DTEND;VALUE=DATE:20251025
DTSTAMP:20260423T210115
CREATED:20250819T111902Z
LAST-MODIFIED:20250819T111902Z
UID:15309-1760313600-1761350399@ggsaldenhoven.de
SUMMARY:Herbstferien 2025
DESCRIPTION:
URL:https://ggsaldenhoven.de/termin/herbstferien-2025/
CATEGORIES:Ferien
END:VEVENT
BEGIN:VEVENT
DTSTART;VALUE=DATE:20251010
DTEND;VALUE=DATE:20251011
DTSTAMP:20260423T210115
CREATED:20250819T112157Z
LAST-MODIFIED:20250819T112157Z
UID:15312-1760054400-1760140799@ggsaldenhoven.de
SUMMARY:Sponsorenlauf
DESCRIPTION:
URL:https://ggsaldenhoven.de/termin/sponsorenlauf-3/
END:VEVENT
BEGIN:VEVENT
DTSTART;VALUE=DATE:20251007
DTEND;VALUE=DATE:20251009
DTSTAMP:20260423T210115
CREATED:20250819T112308Z
LAST-MODIFIED:20250819T112308Z
UID:15316-1759795200-1759967999@ggsaldenhoven.de
SUMMARY:Schnuppertage für die neuen Schulkinder
DESCRIPTION:
URL:https://ggsaldenhoven.de/termin/schnuppertage-fuer-die-neuen-schulkinder/
END:VEVENT
BEGIN:VEVENT
DTSTART;VALUE=DATE:20251003
DTEND;VALUE=DATE:20251004
DTSTAMP:20260423T210115
CREATED:20250813T070854Z
LAST-MODIFIED:20250813T070854Z
UID:15268-1759449600-1759535999@ggsaldenhoven.de
SUMMARY:Tag der deutschen Einheit
DESCRIPTION:
URL:https://ggsaldenhoven.de/termin/tag-der-deutschen-einheit-2/
CATEGORIES:Unterrichtsfreier Tag
END:VEVENT
BEGIN:VEVENT
DTSTART;VALUE=DATE:20250929
DTEND;VALUE=DATE:20251011
DTSTAMP:20260423T210115
CREATED:20250819T114235Z
LAST-MODIFIED:20250819T114235Z
UID:15347-1759104000-1760140799@ggsaldenhoven.de
SUMMARY:Anmeldung Schulneulinge
DESCRIPTION:
URL:https://ggsaldenhoven.de/termin/anmeldung-schulneulinge-4/
END:VEVENT
BEGIN:VEVENT
DTSTART;VALUE=DATE:20250921
DTEND;VALUE=DATE:20250922
DTSTAMP:20260423T210115
CREATED:20250819T110739Z
LAST-MODIFIED:20250819T110921Z
UID:15293-1758412800-1758499199@ggsaldenhoven.de
SUMMARY:Kindersachen-Flohmarkt des Fördervereins der GGS Aldenhoven
DESCRIPTION:
URL:https://ggsaldenhoven.de/termin/kinderflohmarkt/
END:VEVENT
BEGIN:VEVENT
DTSTART;TZID=Europe/Helsinki:20250915T180000
DTEND;TZID=Europe/Helsinki:20250915T200000
DTSTAMP:20260423T210115
CREATED:20250903T192748Z
LAST-MODIFIED:20250903T192748Z
UID:15416-1757959200-1757966400@ggsaldenhoven.de
SUMMARY:Klassenpflegschaft Stufe 4
DESCRIPTION:
URL:https://ggsaldenhoven.de/termin/klassenpflegschaft-stufe-4-2/
CATEGORIES:Elternabend
END:VEVENT
BEGIN:VEVENT
DTSTART;TZID=Europe/Helsinki:20250911T190000
DTEND;TZID=Europe/Helsinki:20250911T210000
DTSTAMP:20260423T210115
CREATED:20250903T192700Z
LAST-MODIFIED:20250903T192700Z
UID:15413-1757617200-1757624400@ggsaldenhoven.de
SUMMARY:Klassenpflegschaft Stufe 3
DESCRIPTION:
URL:https://ggsaldenhoven.de/termin/klassenpflegschaft-stufe-3-2/
CATEGORIES:Elternabend
END:VEVENT
BEGIN:VEVENT
DTSTART;TZID=Europe/Helsinki:20250910T190000
DTEND;TZID=Europe/Helsinki:20250910T210000
DTSTAMP:20260423T210115
CREATED:20250819T112958Z
LAST-MODIFIED:20250819T113959Z
UID:15326-1757530800-1757538000@ggsaldenhoven.de
SUMMARY:Elternabend Stufe 1
DESCRIPTION:
URL:https://ggsaldenhoven.de/termin/elternabend-stufe-1-4/
CATEGORIES:Elternabend
END:VEVENT
BEGIN:VEVENT
DTSTART;TZID=Europe/Helsinki:20250909T190000
DTEND;TZID=Europe/Helsinki:20250909T210000
DTSTAMP:20260423T210115
CREATED:20250903T192611Z
LAST-MODIFIED:20250903T192611Z
UID:15410-1757444400-1757451600@ggsaldenhoven.de
SUMMARY:Klassenpflegschaft Stufe 2
DESCRIPTION:
URL:https://ggsaldenhoven.de/termin/klassenpflegschaft-stufe-2-3/
CATEGORIES:Elternabend
END:VEVENT
BEGIN:VEVENT
DTSTART;TZID=Europe/Helsinki:20250906T130000
DTEND;TZID=Europe/Helsinki:20250906T180000
DTSTAMP:20260423T210115
CREATED:20250819T111604Z
LAST-MODIFIED:20250819T112651Z
UID:15306-1757163600-1757181600@ggsaldenhoven.de
SUMMARY:Römerparkfest
DESCRIPTION:
URL:https://ggsaldenhoven.de/termin/roemerparkfest-3/
CATEGORIES:Feier
END:VEVENT
BEGIN:VEVENT
DTSTART;VALUE=DATE:20250828
DTEND;VALUE=DATE:20250829
DTSTAMP:20260423T210115
CREATED:20250819T111404Z
LAST-MODIFIED:20250819T111404Z
UID:15303-1756339200-1756425599@ggsaldenhoven.de
SUMMARY:Einschulungsfeier Klasse 1
DESCRIPTION:
URL:https://ggsaldenhoven.de/termin/einschulungsfeier-klasse-1/
CATEGORIES:Feier
END:VEVENT
BEGIN:VEVENT
DTSTART;VALUE=DATE:20250827
DTEND;VALUE=DATE:20250828
DTSTAMP:20260423T210115
CREATED:20250819T111125Z
LAST-MODIFIED:20250819T111125Z
UID:15300-1756252800-1756339199@ggsaldenhoven.de
SUMMARY:Schulbeginn für die Klassen 2-4
DESCRIPTION:
URL:https://ggsaldenhoven.de/termin/schulbeginn-fuer-die-klassen-2-4/
END:VEVENT
BEGIN:VEVENT
DTSTART;VALUE=DATE:20250714
DTEND;VALUE=DATE:20250827
DTSTAMP:20260423T210115
CREATED:20240804T150630Z
LAST-MODIFIED:20240804T150630Z
UID:14381-1752451200-1756252799@ggsaldenhoven.de
SUMMARY:Sommerferien 2025
DESCRIPTION:﻿﻿
URL:https://ggsaldenhoven.de/termin/sommerferien-2025/
CATEGORIES:Ferien
END:VEVENT
BEGIN:VEVENT
DTSTART;VALUE=DATE:20250711
DTEND;VALUE=DATE:20250712
DTSTAMP:20260423T210115
CREATED:20240805T142404Z
LAST-MODIFIED:20240805T142404Z
UID:14434-1752192000-1752278399@ggsaldenhoven.de
SUMMARY:Zeugnisausgabe Stufe 4\, letzter Schultag
DESCRIPTION:
URL:https://ggsaldenhoven.de/termin/zeugnisausgabe-stufe-4-letzter-schultag-2/
END:VEVENT
BEGIN:VEVENT
DTSTART;VALUE=DATE:20250707
DTEND;VALUE=DATE:20250708
DTSTAMP:20260423T210115
CREATED:20240805T142504Z
LAST-MODIFIED:20240805T142504Z
UID:14437-1751846400-1751932799@ggsaldenhoven.de
SUMMARY:Zeugnisausgabe Stufe 1-3
DESCRIPTION:
URL:https://ggsaldenhoven.de/termin/zeugnisausgabe-stufe-1-3-4/
END:VEVENT
BEGIN:VEVENT
DTSTART;VALUE=DATE:20250619
DTEND;VALUE=DATE:20250620
DTSTAMP:20260423T210115
CREATED:20240804T152101Z
LAST-MODIFIED:20240804T152101Z
UID:14406-1750291200-1750377599@ggsaldenhoven.de
SUMMARY:Fronleichnam
DESCRIPTION:﻿﻿
URL:https://ggsaldenhoven.de/termin/fronleichnam/
CATEGORIES:Unterrichtsfreier Tag
END:VEVENT
BEGIN:VEVENT
DTSTART;VALUE=DATE:20250609
DTEND;VALUE=DATE:20250611
DTSTAMP:20260423T210115
CREATED:20240804T150511Z
LAST-MODIFIED:20240804T150511Z
UID:14377-1749427200-1749599999@ggsaldenhoven.de
SUMMARY:Pfingstferien 2025
DESCRIPTION:﻿﻿
URL:https://ggsaldenhoven.de/termin/pfingstferien-2025/
CATEGORIES:Ferien
END:VEVENT
BEGIN:VEVENT
DTSTART;VALUE=DATE:20250530
DTEND;VALUE=DATE:20250531
DTSTAMP:20260423T210115
CREATED:20240804T151931Z
LAST-MODIFIED:20240804T151931Z
UID:14402-1748563200-1748649599@ggsaldenhoven.de
SUMMARY:Brückentag nach Christi Himmelfahrt
DESCRIPTION:﻿﻿
URL:https://ggsaldenhoven.de/termin/brueckentag-nach-christi-himmelfahrt/
CATEGORIES:Unterrichtsfreier Tag
END:VEVENT
BEGIN:VEVENT
DTSTART;VALUE=DATE:20250529
DTEND;VALUE=DATE:20250530
DTSTAMP:20260423T210115
CREATED:20240804T151807Z
LAST-MODIFIED:20240804T151807Z
UID:14398-1748476800-1748563199@ggsaldenhoven.de
SUMMARY:Christi Himmelfahrt
DESCRIPTION:﻿﻿
URL:https://ggsaldenhoven.de/termin/christi-himmelfahrt/
CATEGORIES:Unterrichtsfreier Tag
END:VEVENT
BEGIN:VEVENT
DTSTART;VALUE=DATE:20250505
DTEND;VALUE=DATE:20250511
DTSTAMP:20260423T210115
CREATED:20250107T162331Z
LAST-MODIFIED:20250107T162331Z
UID:14974-1746403200-1746921599@ggsaldenhoven.de
SUMMARY:Zirkusprojektwoche
DESCRIPTION:
URL:https://ggsaldenhoven.de/termin/zirkusprojektwoche/
END:VEVENT
BEGIN:VEVENT
DTSTART;VALUE=DATE:20250501
DTEND;VALUE=DATE:20250502
DTSTAMP:20260423T210115
CREATED:20250107T154045Z
LAST-MODIFIED:20250107T154045Z
UID:14954-1746057600-1746143999@ggsaldenhoven.de
SUMMARY:Tag der Arbeit
DESCRIPTION:
URL:https://ggsaldenhoven.de/termin/tag-der-arbeit/
CATEGORIES:Unterrichtsfreier Tag
END:VEVENT
END:VCALENDAR